BEGIN:VCALENDAR
VERSION:2.0
PRODID:-//The Yard Coventry - ECPv6.15.20//NONSGML v1.0//EN
CALSCALE:GREGORIAN
METHOD:PUBLISH
X-WR-CALNAME:The Yard Coventry
X-ORIGINAL-URL:https://www.theyardcoventry.co.uk
X-WR-CALDESC:Events for The Yard Coventry
REFRESH-INTERVAL;VALUE=DURATION:PT1H
X-Robots-Tag:noindex
X-PUBLISHED-TTL:PT1H
BEGIN:VTIMEZONE
TZID:Europe/London
BEGIN:DAYLIGHT
TZOFFSETFROM:+0000
TZOFFSETTO:+0100
TZNAME:BST
DTSTART:20250330T010000
END:DAYLIGHT
BEGIN:STANDARD
TZOFFSETFROM:+0100
TZOFFSETTO:+0000
TZNAME:GMT
DTSTART:20251026T010000
END:STANDARD
BEGIN:DAYLIGHT
TZOFFSETFROM:+0000
TZOFFSETTO:+0100
TZNAME:BST
DTSTART:20260329T010000
END:DAYLIGHT
BEGIN:STANDARD
TZOFFSETFROM:+0100
TZOFFSETTO:+0000
TZNAME:GMT
DTSTART:20261025T010000
END:STANDARD
BEGIN:DAYLIGHT
TZOFFSETFROM:+0000
TZOFFSETTO:+0100
TZNAME:BST
DTSTART:20270328T010000
END:DAYLIGHT
BEGIN:STANDARD
TZOFFSETFROM:+0100
TZOFFSETTO:+0000
TZNAME:GMT
DTSTART:20271031T010000
END:STANDARD
END:VTIMEZONE
BEGIN:VEVENT
DTSTART;TZID=Europe/London:20260501T210000
DTEND;TZID=Europe/London:20260502T040000
DTSTAMP:20260422T122954
CREATED:20260420T120335Z
LAST-MODIFIED:20260420T120335Z
UID:1267-1777669200-1777694400@www.theyardcoventry.co.uk
SUMMARY:Out & Proud: Aunty Ginger
DESCRIPTION:Kick off your May the right way! On Friday 1st May\, our iconic Out & Proud cabaret is back\, and we are beyond thrilled to welcome the absolute powerhouse that is Aunty Ginger to The Yard stage! \nExpect an unforgettable evening of top-tier drag\, razor-sharp comedy\, and phenomenal live entertainment that will have you laughing\, cheering\, and partying right into the early hours. Aunty Ginger absolutely always brings the house down\, so get ready for high glamour and elite-level chaos to completely shake off your work week. \nGather your chosen family\, grab a cocktail\, and let’s start the weekend as we mean to go on!
URL:https://www.theyardcoventry.co.uk/event-new/out-proud-aunty-ginger-2/
LOCATION:The Yard\, Earl Street\, Coventry\, West Midlands\, CV1 5RU\, United Kingdom
ATTACH;FMTTYPE=image/jpeg:https://www.theyardcoventry.co.uk/wp-content/uploads/2026/04/AUNTY-G-SOCIAL.jpg
END:VEVENT
END:VCALENDAR